BEGIN:VCALENDAR
VERSION:2.0
PRODID:-//Grace Place Pregnancy Care Center - ECPv6.15.20//NONSGML v1.0//EN
CALSCALE:GREGORIAN
METHOD:PUBLISH
X-ORIGINAL-URL:https://graceplacepcc.com
X-WR-CALDESC:Events for Grace Place Pregnancy Care Center
REFRESH-INTERVAL;VALUE=DURATION:PT1H
X-Robots-Tag:noindex
X-PUBLISHED-TTL:PT1H
BEGIN:VTIMEZONE
TZID:UTC
BEGIN:STANDARD
TZOFFSETFROM:+0000
TZOFFSETTO:+0000
TZNAME:UTC
DTSTART:20250101T000000
END:STANDARD
END:VTIMEZONE
BEGIN:VEVENT
DTSTART;TZID=UTC:20260504T140000
DTEND;TZID=UTC:20260504T150000
DTSTAMP:20260422T173953
CREATED:20260422T132459Z
LAST-MODIFIED:20260422T132459Z
UID:10835-1777903200-1777906800@graceplacepcc.com
SUMMARY:Spanish Pregnancy Class
DESCRIPTION:
URL:https://graceplacepcc.com/class/spanish-pregnancy-class-2/
LOCATION:Grace Place Pregnancy Care Center\, 311 N. Grant\, Liberal\, Kansas\, 67901\, United States
END:VEVENT
BEGIN:VEVENT
DTSTART;TZID=UTC:20260504T160000
DTEND;TZID=UTC:20260504T170000
DTSTAMP:20260422T173953
CREATED:20260422T133605Z
LAST-MODIFIED:20260422T133605Z
UID:10857-1777910400-1777914000@graceplacepcc.com
SUMMARY:Love Notes
DESCRIPTION:
URL:https://graceplacepcc.com/class/love-notes-2/
LOCATION:Grace Place Pregnancy Care Center\, 311 N. Grant\, Liberal\, Kansas\, 67901\, United States
END:VEVENT
BEGIN:VEVENT
DTSTART;TZID=UTC:20260505T160000
DTEND;TZID=UTC:20260505T170000
DTSTAMP:20260422T173953
CREATED:20260422T133005Z
LAST-MODIFIED:20260422T133005Z
UID:10847-1777996800-1778000400@graceplacepcc.com
SUMMARY:Spanish Parenting Class
DESCRIPTION:
URL:https://graceplacepcc.com/class/spanish-parenting-class-2/
LOCATION:Grace Place Pregnancy Care Center\, 311 N. Grant\, Liberal\, Kansas\, 67901\, United States
END:VEVENT
BEGIN:VEVENT
DTSTART;TZID=UTC:20260507T110000
DTEND;TZID=UTC:20260507T120000
DTSTAMP:20260422T173953
CREATED:20260422T134721Z
LAST-MODIFIED:20260422T134721Z
UID:10873-1778151600-1778155200@graceplacepcc.com
SUMMARY:English Pre-Natal Class
DESCRIPTION:
URL:https://graceplacepcc.com/class/english-pre-natal-class-3/
LOCATION:Grace Place Pregnancy Care Center\, 311 N. Grant\, Liberal\, Kansas\, 67901\, United States
END:VEVENT
BEGIN:VEVENT
DTSTART;TZID=UTC:20260507T153000
DTEND;TZID=UTC:20260507T163000
DTSTAMP:20260422T173953
CREATED:20260422T135205Z
LAST-MODIFIED:20260422T135205Z
UID:10883-1778167800-1778171400@graceplacepcc.com
SUMMARY:English Teen Pre-Natal Class
DESCRIPTION:
URL:https://graceplacepcc.com/class/english-teen-pre-natal-class-3/
LOCATION:Grace Place Pregnancy Care Center\, 311 N. Grant\, Liberal\, Kansas\, 67901\, United States
END:VEVENT
BEGIN:VEVENT
DTSTART;TZID=UTC:20260511T080000
DTEND;TZID=UTC:20260511T170000
DTSTAMP:20260422T173953
CREATED:20260422T132646Z
LAST-MODIFIED:20260422T132709Z
UID:10838-1778486400-1778518800@graceplacepcc.com
SUMMARY:Spanish Pregnancy Class
DESCRIPTION:
URL:https://graceplacepcc.com/class/spanish-pregnancy-class-3/
LOCATION:Kansas
END:VEVENT
BEGIN:VEVENT
DTSTART;TZID=UTC:20260511T160000
DTEND;TZID=UTC:20260511T170000
DTSTAMP:20260422T173953
CREATED:20260422T133715Z
LAST-MODIFIED:20260422T133715Z
UID:10859-1778515200-1778518800@graceplacepcc.com
SUMMARY:Love Notes
DESCRIPTION:
URL:https://graceplacepcc.com/class/love-notes-3/
LOCATION:Grace Place Pregnancy Care Center\, 311 N. Grant\, Liberal\, Kansas\, 67901\, United States
END:VEVENT
BEGIN:VEVENT
DTSTART;TZID=UTC:20260512T160000
DTEND;TZID=UTC:20260512T170000
DTSTAMP:20260422T173953
CREATED:20260422T133256Z
LAST-MODIFIED:20260422T133256Z
UID:10849-1778601600-1778605200@graceplacepcc.com
SUMMARY:Spanish Parenting Class
DESCRIPTION:
URL:https://graceplacepcc.com/class/spanish-parenting-class-3/
LOCATION:Grace Place Pregnancy Care Center\, 311 N. Grant\, Liberal\, Kansas\, 67901\, United States
END:VEVENT
BEGIN:VEVENT
DTSTART;TZID=UTC:20260514T110000
DTEND;TZID=UTC:20260514T120000
DTSTAMP:20260422T173953
CREATED:20260422T134637Z
LAST-MODIFIED:20260422T134637Z
UID:10871-1778756400-1778760000@graceplacepcc.com
SUMMARY:English Pre-Natal Class
DESCRIPTION:
URL:https://graceplacepcc.com/class/english-pre-natal-class-2/
LOCATION:Grace Place Pregnancy Care Center\, 311 N. Grant\, Liberal\, Kansas\, 67901\, United States
END:VEVENT
BEGIN:VEVENT
DTSTART;TZID=UTC:20260514T153000
DTEND;TZID=UTC:20260514T163000
DTSTAMP:20260422T173953
CREATED:20260422T135256Z
LAST-MODIFIED:20260422T135256Z
UID:10885-1778772600-1778776200@graceplacepcc.com
SUMMARY:English Teen Pre-Natal Class
DESCRIPTION:
URL:https://graceplacepcc.com/class/english-teen-pre-natal-class-4/
LOCATION:Grace Place Pregnancy Care Center\, 311 N. Grant\, Liberal\, Kansas\, 67901\, United States
END:VEVENT
BEGIN:VEVENT
DTSTART;TZID=UTC:20260518T140000
DTEND;TZID=UTC:20260518T150000
DTSTAMP:20260422T173953
CREATED:20260422T132748Z
LAST-MODIFIED:20260422T132748Z
UID:10841-1779112800-1779116400@graceplacepcc.com
SUMMARY:Spanish Pregnancy Class
DESCRIPTION:
URL:https://graceplacepcc.com/class/spanish-pregnancy-class-4/
LOCATION:Grace Place Pregnancy Care Center\, 311 N. Grant\, Liberal\, Kansas\, 67901\, United States
END:VEVENT
BEGIN:VEVENT
DTSTART;TZID=UTC:20260518T160000
DTEND;TZID=UTC:20260518T170000
DTSTAMP:20260422T173953
CREATED:20260422T133828Z
LAST-MODIFIED:20260422T133828Z
UID:10861-1779120000-1779123600@graceplacepcc.com
SUMMARY:Love Notes
DESCRIPTION:
URL:https://graceplacepcc.com/class/love-notes-4/
LOCATION:Grace Place Pregnancy Care Center\, 311 N. Grant\, Liberal\, Kansas\, 67901\, United States
END:VEVENT
BEGIN:VEVENT
DTSTART;TZID=UTC:20260519T160000
DTEND;TZID=UTC:20260519T170000
DTSTAMP:20260422T173953
CREATED:20260422T133353Z
LAST-MODIFIED:20260422T133353Z
UID:10851-1779206400-1779210000@graceplacepcc.com
SUMMARY:Spanish Parenting Class
DESCRIPTION:
URL:https://graceplacepcc.com/class/spanish-parenting-class-4/
LOCATION:Grace Place Pregnancy Care Center\, 311 N. Grant\, Liberal\, Kansas\, 67901\, United States
END:VEVENT
BEGIN:VEVENT
DTSTART;TZID=UTC:20260521T110000
DTEND;TZID=UTC:20260521T120000
DTSTAMP:20260422T173953
CREATED:20260422T134745Z
LAST-MODIFIED:20260422T134745Z
UID:10875-1779361200-1779364800@graceplacepcc.com
SUMMARY:English Pre-Natal Class
DESCRIPTION:
URL:https://graceplacepcc.com/class/english-pre-natal-class-4/
LOCATION:Grace Place Pregnancy Care Center\, 311 N. Grant\, Liberal\, Kansas\, 67901\, United States
END:VEVENT
BEGIN:VEVENT
DTSTART;TZID=UTC:20260521T153000
DTEND;TZID=UTC:20260521T163000
DTSTAMP:20260422T173953
CREATED:20260422T135353Z
LAST-MODIFIED:20260422T135353Z
UID:10888-1779377400-1779381000@graceplacepcc.com
SUMMARY:English Teen Pre-Natal Class
DESCRIPTION:
URL:https://graceplacepcc.com/class/english-teen-pre-natal-class-5/
LOCATION:Grace Place Pregnancy Care Center\, 311 N. Grant\, Liberal\, Kansas\, 67901\, United States
END:VEVENT
BEGIN:VEVENT
DTSTART;TZID=UTC:20260525T020000
DTEND;TZID=UTC:20260525T150000
DTSTAMP:20260422T173953
CREATED:20260422T132821Z
LAST-MODIFIED:20260422T132821Z
UID:10843-1779674400-1779721200@graceplacepcc.com
SUMMARY:Spanish Pregnancy Class
DESCRIPTION:
URL:https://graceplacepcc.com/class/spanish-pregnancy-class-5/
LOCATION:Grace Place Pregnancy Care Center\, 311 N. Grant\, Liberal\, Kansas\, 67901\, United States
END:VEVENT
BEGIN:VEVENT
DTSTART;TZID=UTC:20260525T160000
DTEND;TZID=UTC:20260525T170000
DTSTAMP:20260422T173953
CREATED:20260422T133910Z
LAST-MODIFIED:20260422T133910Z
UID:10863-1779724800-1779728400@graceplacepcc.com
SUMMARY:Love Notes
DESCRIPTION:
URL:https://graceplacepcc.com/class/love-notes-5/
LOCATION:Grace Place Pregnancy Care Center\, 311 N. Grant\, Liberal\, Kansas\, 67901\, United States
END:VEVENT
BEGIN:VEVENT
DTSTART;TZID=UTC:20260526T160000
DTEND;TZID=UTC:20260526T170000
DTSTAMP:20260422T173953
CREATED:20260422T134033Z
LAST-MODIFIED:20260422T134033Z
UID:10865-1779811200-1779814800@graceplacepcc.com
SUMMARY:Spanish Parenting Class
DESCRIPTION:
URL:https://graceplacepcc.com/class/spanish-parenting-class-6/
LOCATION:Grace Place Pregnancy Care Center\, 311 N. Grant\, Liberal\, Kansas\, 67901\, United States
END:VEVENT
BEGIN:VEVENT
DTSTART;TZID=UTC:20260528T110000
DTEND;TZID=UTC:20260528T120000
DTSTAMP:20260422T173953
CREATED:20260422T134812Z
LAST-MODIFIED:20260422T134812Z
UID:10877-1779966000-1779969600@graceplacepcc.com
SUMMARY:English Pre-Natal Class
DESCRIPTION:
URL:https://graceplacepcc.com/class/english-pre-natal-class-5/
LOCATION:Grace Place Pregnancy Care Center\, 311 N. Grant\, Liberal\, Kansas\, 67901\, United States
END:VEVENT
BEGIN:VEVENT
DTSTART;TZID=UTC:20260528T153000
DTEND;TZID=UTC:20260528T163000
DTSTAMP:20260422T173953
CREATED:20260422T135432Z
LAST-MODIFIED:20260422T135503Z
UID:10890-1779982200-1779985800@graceplacepcc.com
SUMMARY:English Teen Pre-Natal Class
DESCRIPTION:
URL:https://graceplacepcc.com/class/english-teen-pre-natal-class-6/
LOCATION:Grace Place Pregnancy Care Center\, 311 N. Grant\, Liberal\, Kansas\, 67901\, United States
END:VEVENT
END:VCALENDAR