BEGIN:VCALENDAR
VERSION:2.0
PRODID:-//Grace Place Pregnancy Care Center - ECPv6.15.20//NONSGML v1.0//EN
CALSCALE:GREGORIAN
METHOD:PUBLISH
X-WR-CALNAME:Grace Place Pregnancy Care Center
X-ORIGINAL-URL:https://graceplacepcc.com
X-WR-CALDESC:Events for Grace Place Pregnancy Care Center
REFRESH-INTERVAL;VALUE=DURATION:PT1H
X-Robots-Tag:noindex
X-PUBLISHED-TTL:PT1H
BEGIN:VTIMEZONE
TZID:UTC
BEGIN:STANDARD
TZOFFSETFROM:+0000
TZOFFSETTO:+0000
TZNAME:UTC
DTSTART:20250101T000000
END:STANDARD
END:VTIMEZONE
BEGIN:VEVENT
DTSTART;TZID=UTC:20260423T110000
DTEND;TZID=UTC:20260423T120000
DTSTAMP:20260422T191919
CREATED:20260422T134352Z
LAST-MODIFIED:20260422T134352Z
UID:10867-1776942000-1776945600@graceplacepcc.com
SUMMARY:English Pre-Natal Class
DESCRIPTION:
URL:https://graceplacepcc.com/class/english-pre-natal-class/
LOCATION:Grace Place Pregnancy Care Center\, 311 N. Grant\, Liberal\, Kansas\, 67901\, United States
END:VEVENT
BEGIN:VEVENT
DTSTART;TZID=UTC:20260423T153000
DTEND;TZID=UTC:20260423T163000
DTSTAMP:20260422T191919
CREATED:20260422T134910Z
LAST-MODIFIED:20260422T134910Z
UID:10879-1776958200-1776961800@graceplacepcc.com
SUMMARY:English Teen Pre-Natal Class
DESCRIPTION:
URL:https://graceplacepcc.com/class/english-teen-pre-natal-class/
LOCATION:Grace Place Pregnancy Care Center\, 311 N. Grant\, Liberal\, Kansas\, 67901\, United States
END:VEVENT
BEGIN:VEVENT
DTSTART;TZID=UTC:20260427T140000
DTEND;TZID=UTC:20260427T150000
DTSTAMP:20260422T191919
CREATED:20260422T132129Z
LAST-MODIFIED:20260422T132518Z
UID:10826-1777298400-1777302000@graceplacepcc.com
SUMMARY:Spanish Pregnancy Class
DESCRIPTION:
URL:https://graceplacepcc.com/class/spanish-pregnancy-class/
LOCATION:Grace Place Pregnancy Care Center\, 311 N. Grant\, Liberal\, Kansas\, 67901\, United States
END:VEVENT
BEGIN:VEVENT
DTSTART;TZID=UTC:20260427T160000
DTEND;TZID=UTC:20260427T170000
DTSTAMP:20260422T191919
CREATED:20260422T133527Z
LAST-MODIFIED:20260422T133527Z
UID:10855-1777305600-1777309200@graceplacepcc.com
SUMMARY:Love Notes
DESCRIPTION:
URL:https://graceplacepcc.com/class/love-notes/
LOCATION:Kansas
END:VEVENT
BEGIN:VEVENT
DTSTART;TZID=UTC:20260428T160000
DTEND;TZID=UTC:20260428T170000
DTSTAMP:20260422T191919
CREATED:20260422T132916Z
LAST-MODIFIED:20260422T132916Z
UID:10845-1777392000-1777395600@graceplacepcc.com
SUMMARY:Spanish Parenting Class
DESCRIPTION:
URL:https://graceplacepcc.com/class/spanish-parenting-class/
LOCATION:Kansas
END:VEVENT
BEGIN:VEVENT
DTSTART;TZID=UTC:20260430T110000
DTEND;TZID=UTC:20260430T120000
DTSTAMP:20260422T191919
CREATED:20260422T134504Z
LAST-MODIFIED:20260422T134504Z
UID:10869-1777546800-1777550400@graceplacepcc.com
SUMMARY:English Pre-Natal Classes
DESCRIPTION:
URL:https://graceplacepcc.com/class/english-pre-natal-classes/
LOCATION:Grace Place Pregnancy Care Center\, 311 N. Grant\, Liberal\, Kansas\, 67901\, United States
END:VEVENT
BEGIN:VEVENT
DTSTART;TZID=UTC:20260430T153000
DTEND;TZID=UTC:20260430T163000
DTSTAMP:20260422T191919
CREATED:20260422T134957Z
LAST-MODIFIED:20260422T134957Z
UID:10881-1777563000-1777566600@graceplacepcc.com
SUMMARY:English Teen Pre-Natal Class
DESCRIPTION:
URL:https://graceplacepcc.com/class/english-teen-pre-natal-class-2/
LOCATION:Grace Place Pregnancy Care Center\, 311 N. Grant\, Liberal\, Kansas\, 67901\, United States
END:VEVENT
END:VCALENDAR